BEGIN:VCALENDAR
VERSION:2.0
PRODID:-//West Coast Ice Hockey Association Inc. - ECPv4.9.10//NONSGML v1.0//EN
CALSCALE:GREGORIAN
METHOD:PUBLISH
X-WR-CALNAME:West Coast Ice Hockey Association Inc.
X-ORIGINAL-URL:http://westcoasticehockey.com.au
X-WR-CALDESC:Events for West Coast Ice Hockey Association Inc.
BEGIN:VTIMEZONE
TZID:Asia/Shanghai
BEGIN:STANDARD
TZOFFSETFROM:+0800
TZOFFSETTO:+0800
TZNAME:CST
DTSTART:20190101T000000
END:STANDARD
END:VTIMEZONE
BEGIN:VEVENT
DTSTART;TZID=Asia/Shanghai:20190327T181500
DTEND;TZID=Asia/Shanghai:20190327T191500
DTSTAMP:20200301T173651
CREATED:20190311T135554Z
LAST-MODIFIED:20190420T040518Z
UID:536-1553710500-1553714100@westcoasticehockey.com.au
SUMMARY:ALL Senior Pre-Season Training
DESCRIPTION:\n\n\n \n\n\n\n\n\n\n\n\n\n\n\n\n	Related\n
URL:http://westcoasticehockey.com.au/event/premier-senior-pre-season-training/
END:VEVENT
END:VCALENDAR