BEGIN:VCALENDAR
VERSION:2.0
PRODID:-//West Coast Ice Hockey Association Inc. - ECPv4.9.10//NONSGML v1.0//EN
CALSCALE:GREGORIAN
METHOD:PUBLISH
X-WR-CALNAME:West Coast Ice Hockey Association Inc.
X-ORIGINAL-URL:http://westcoasticehockey.com.au
X-WR-CALDESC:Events for West Coast Ice Hockey Association Inc.
BEGIN:VTIMEZONE
TZID:Asia/Shanghai
BEGIN:STANDARD
TZOFFSETFROM:+0800
TZOFFSETTO:+0800
TZNAME:CST
DTSTART:20190101T000000
END:STANDARD
END:VTIMEZONE
BEGIN:VEVENT
DTSTART;TZID=Asia/Shanghai:20190330T074500
DTEND;TZID=Asia/Shanghai:20190330T084500
DTSTAMP:20200226T231656
CREATED:20190311T133428Z
LAST-MODIFIED:20190420T040518Z
UID:531-1553931900-1553935500@westcoasticehockey.com.au
SUMMARY:Learn to Play
DESCRIPTION:\n\n\nLearn to play at Perth Ice Arena every Saturday morning starting from March 30\,  2019 \n\n\n\n\n\n\n\n\n\n\n\n\n	Related\n
URL:http://westcoasticehockey.com.au/event/learn-to-play/
CATEGORIES:Pre-Season
END:VEVENT
END:VCALENDAR